BEGIN:VCALENDAR
VERSION:2.0
PRODID:-//https://test.cascobaysports.com///NONSGML kigkonsult.se iCalcreator 2.10.15//
METHOD:PUBLISH
BEGIN:VEVENT
UID:20260419T134619UTC-4316R9Kv6M@https://test.cascobaysports.com/
DTSTAMP:20260419T134619Z
DESCRIPTION:Registration Details:\n\n\n\nStatus Update: \nOpen\n\n\nLeague 
 Level:\nAll abilities w/playoff breakdown if necessary\n\n\n&nbsp\;\n\n\nF
 ull Team Fee:\n$925&nbsp\;($250 deposit required)&nbsp\;\n\n\nTeam Balance
 :&nbsp\; &nbsp\;\nDue first day of play or&nbsp\;$50 Late Fee&nbsp\;applie
 d\n\n\nFree Agent Fee:\n$125&nbsp\;Team placement based on registrations\n
 \n\n&nbsp\;\n&nbsp\;\n\n\nGame Times:\n7:00\, 8:00\, 9:00 PM or variation 
 of\n\n\n\nNote:\nWhat's Included:\n\n6 week season plus playoff tournament
 \n7-8 games guaranteed\n8 team shirts with color of choice\nQuality league
  management &amp\; communication\nCoed friendly rules that keep all player
 s involved\nExperienced referees &amp\; score keepers\n\nFor online regist
 ration\, click the Register Now button at the top of the page\n&nbsp\;\nBa
 sic Rules:\n\n5 vs 5 (with at least 1 women on court)\nTwo- 20 minute halv
 es\nMen's baskets:&nbsp\; 1's &amp\; 2's\, Women's baskets:&nbsp\; 2's &am
 p\; 3's\nPlayers substitute on the fly\nClock stops in last two minutes\nP
 layers must be 21+\nView the League Rules below (under FILES)\n\n\n&nbsp\;
 \n&nbsp\;\n&nbsp\; https://test.cascobaysports.com/programs/event/139-mond
 ay-coed-basketball
DTSTART;VALUE=DATE:20260504
LOCATION:The East End Community Center (195 North Street\, Portland\, ME 04
 101\, USA)
SUMMARY:Monday Coed Basketball
URL:https://test.cascobaysports.com/programs/event/139-monday-coed-basketba
 ll
END:VEVENT
END:VCALENDAR
