BEGIN:VCALENDAR
VERSION:2.0
PRODID:-//https://test.cascobaysports.com///NONSGML kigkonsult.se iCalcreator 2.10.15//
METHOD:PUBLISH
BEGIN:VEVENT
UID:20260421T110706UTC-4262RdMgRL@https://test.cascobaysports.com/
DTSTAMP:20260421T110706Z
DESCRIPTION:Registration Details:\n\n\n\nStatus Update:\nOpen\n\n\nLeague L
 evel:\nMultiple Divisions (28 Team Capacity)\n\n\nNote: &nbsp\;'A' (Compet
 itive)\, 'B' (Semi- Competitive)\, 'C' (Casual)\, 'D' (Very Casual)\n\n\n&
 nbsp\;\n&nbsp\; &nbsp\; &nbsp\; &nbsp\; &nbsp\; &nbsp\; &nbsp\; &nbsp\; &n
 bsp\; &nbsp\; &nbsp\; &nbsp\; &nbsp\; &nbsp\; &nbsp\;\n\n\nFull Team Fee:
 \n$850&nbsp\;($250 deposit required)\n\n\nTeam Balance:\nDue first day of 
 play or&nbsp\;$50 Late Fee&nbsp\;applied\n\n\nFree Agent Fee:\n$125\n\n\n&
 nbsp\;\n&nbsp\;\n\n\nGame Times:\n7:30\, 8:30\, 9:30\, or 10:30 AM\n\n\nFi
 elds Used:\nMemorial Stadium (Deering HS)\n\n\n\n&nbsp\;\nWhat's Included:
 \n\n6 week regular season plus playoff tournament - (7-9 games guaranteed)
 \nGames on high quality turf fields\n10 team shirts with color of choice\n
 Experience referees &amp\; league coordinator onsite\nTop rate league mana
 gment &amp\; communication\nGreat exercise &amp\; social atmosphere!\n\nFo
 r online registration\, click the Register Now button at the top of the pa
 ge\n\nBasic Rules:\n\n6 vs 6 (with at least 2 women on the field)\nAt leas
 t every 3rd play must involve a woman\nAbsolutely no contact\n5 Count stri
 ctly enforced\n60 x 35 yard field\n2 first downs before a score attempt\nP
 layers must be 21+\nView the League Rules below\n\n\n&nbsp\;\n&nbsp\; http
 s://test.cascobaysports.com/programs/event/35-sunday-6-v-6-coed-outdoor-fl
 ag-football
DTSTART;VALUE=DATE:20260621
LOCATION:Deering High School (Memorial Turf Field) (129 Ludlow St\, Portlan
 d\, ME 04101)
SUMMARY:Sunday 6 v 6 Coed Outdoor Flag Football
URL:https://test.cascobaysports.com/programs/event/35-sunday-6-v-6-coed-out
 door-flag-football
END:VEVENT
END:VCALENDAR
